BEGIN:VCALENDAR
VERSION:2.0
PRODID:-//Teller County Shooting Society - ECPv6.15.17.1//NONSGML v1.0//EN
CALSCALE:GREGORIAN
METHOD:PUBLISH
X-WR-CALNAME:Teller County Shooting Society
X-ORIGINAL-URL:https://www.tcss-co.org
X-WR-CALDESC:Events for Teller County Shooting Society
REFRESH-INTERVAL;VALUE=DURATION:PT1H
X-Robots-Tag:noindex
X-PUBLISHED-TTL:PT1H
BEGIN:VTIMEZONE
TZID:America/Denver
BEGIN:DAYLIGHT
TZOFFSETFROM:-0700
TZOFFSETTO:-0600
TZNAME:MDT
DTSTART:20240310T090000
END:DAYLIGHT
BEGIN:STANDARD
TZOFFSETFROM:-0600
TZOFFSETTO:-0700
TZNAME:MST
DTSTART:20241103T080000
END:STANDARD
BEGIN:DAYLIGHT
TZOFFSETFROM:-0700
TZOFFSETTO:-0600
TZNAME:MDT
DTSTART:20250309T090000
END:DAYLIGHT
BEGIN:STANDARD
TZOFFSETFROM:-0600
TZOFFSETTO:-0700
TZNAME:MST
DTSTART:20251102T080000
END:STANDARD
BEGIN:DAYLIGHT
TZOFFSETFROM:-0700
TZOFFSETTO:-0600
TZNAME:MDT
DTSTART:20260308T090000
END:DAYLIGHT
BEGIN:STANDARD
TZOFFSETFROM:-0600
TZOFFSETTO:-0700
TZNAME:MST
DTSTART:20261101T080000
END:STANDARD
END:VTIMEZONE
BEGIN:VEVENT
DTSTART;VALUE=DATE:20251018
DTEND;VALUE=DATE:20251019
DTSTAMP:20260423T112608
CREATED:20251012T230234Z
LAST-MODIFIED:20251012T230234Z
UID:53100-1760745600-1760831999@www.tcss-co.org
SUMMARY:Public Day Cancelled
DESCRIPTION:
URL:https://www.tcss-co.org/event/public-day-cancelled-5/
LOCATION:CO
END:VEVENT
BEGIN:VEVENT
DTSTART;TZID=America/Denver:20251018T090000
DTEND;TZID=America/Denver:20251018T120000
DTSTAMP:20260423T112608
CREATED:20251003T201644Z
LAST-MODIFIED:20251003T201644Z
UID:53076-1760778000-1760788800@www.tcss-co.org
SUMMARY:Range Work Day
DESCRIPTION:Ra
URL:https://www.tcss-co.org/event/range-work-day-3/
LOCATION:CO
END:VEVENT
BEGIN:VEVENT
DTSTART;TZID=America/Denver:20251018T120000
DTEND;TZID=America/Denver:20251018T140000
DTSTAMP:20260423T112608
CREATED:20251012T224419Z
LAST-MODIFIED:20251012T224419Z
UID:53091-1760788800-1760796000@www.tcss-co.org
SUMMARY:Trap & Skeet Shoot
DESCRIPTION:Free trap and skeet shooting for workday volunteers.
URL:https://www.tcss-co.org/event/trap-skeet-shoot/
LOCATION:CO
END:VEVENT
END:VCALENDAR