BEGIN:VCALENDAR
VERSION:2.0
PRODID:-//Teller County Shooting Society - ECPv6.15.17.1//NONSGML v1.0//EN
CALSCALE:GREGORIAN
METHOD:PUBLISH
X-ORIGINAL-URL:https://www.tcss-co.org
X-WR-CALDESC:Events for Teller County Shooting Society
REFRESH-INTERVAL;VALUE=DURATION:PT1H
X-Robots-Tag:noindex
X-PUBLISHED-TTL:PT1H
BEGIN:VTIMEZONE
TZID:America/Denver
BEGIN:DAYLIGHT
TZOFFSETFROM:-0700
TZOFFSETTO:-0600
TZNAME:MDT
DTSTART:20240310T090000
END:DAYLIGHT
BEGIN:STANDARD
TZOFFSETFROM:-0600
TZOFFSETTO:-0700
TZNAME:MST
DTSTART:20241103T080000
END:STANDARD
BEGIN:DAYLIGHT
TZOFFSETFROM:-0700
TZOFFSETTO:-0600
TZNAME:MDT
DTSTART:20250309T090000
END:DAYLIGHT
BEGIN:STANDARD
TZOFFSETFROM:-0600
TZOFFSETTO:-0700
TZNAME:MST
DTSTART:20251102T080000
END:STANDARD
BEGIN:DAYLIGHT
TZOFFSETFROM:-0700
TZOFFSETTO:-0600
TZNAME:MDT
DTSTART:20260308T090000
END:DAYLIGHT
BEGIN:STANDARD
TZOFFSETFROM:-0600
TZOFFSETTO:-0700
TZNAME:MST
DTSTART:20261101T080000
END:STANDARD
END:VTIMEZONE
BEGIN:VEVENT
DTSTART;TZID=America/Denver:20250502T090000
DTEND;TZID=America/Denver:20250502T120000
DTSTAMP:20260421T053829
CREATED:20250412T232410Z
LAST-MODIFIED:20250412T232410Z
UID:52877-1746176400-1746187200@www.tcss-co.org
SUMMARY:Range Work Day
DESCRIPTION:
URL:https://www.tcss-co.org/event/range-work-day/
END:VEVENT
BEGIN:VEVENT
DTSTART;TZID=America/Denver:20250503T100000
DTEND;TZID=America/Denver:20250503T150000
DTSTAMP:20260421T053829
CREATED:20250412T233149Z
LAST-MODIFIED:20250412T233149Z
UID:52889-1746266400-1746284400@www.tcss-co.org
SUMMARY:Public Day
DESCRIPTION:
URL:https://www.tcss-co.org/event/public-day/
END:VEVENT
BEGIN:VEVENT
DTSTART;TZID=America/Denver:20250504T100000
DTEND;TZID=America/Denver:20250504T150000
DTSTAMP:20260421T053829
CREATED:20250412T233229Z
LAST-MODIFIED:20250412T233229Z
UID:52891-1746352800-1746370800@www.tcss-co.org
SUMMARY:Public Day
DESCRIPTION:
URL:https://www.tcss-co.org/event/public-day-2/
END:VEVENT
BEGIN:VEVENT
DTSTART;TZID=America/Denver:20250510T090000
DTEND;TZID=America/Denver:20250510T120000
DTSTAMP:20260421T053829
CREATED:20250509T140021Z
LAST-MODIFIED:20250509T140211Z
UID:52926-1746867600-1746878400@www.tcss-co.org
SUMMARY:Rifle Training - Divide Fire Station
DESCRIPTION:
URL:https://www.tcss-co.org/event/rifle-training-class-divide-fire-station/
END:VEVENT
BEGIN:VEVENT
DTSTART;TZID=America/Denver:20250510T100000
DTEND;TZID=America/Denver:20250510T150000
DTSTAMP:20260421T053829
CREATED:20250412T233336Z
LAST-MODIFIED:20250412T233336Z
UID:52894-1746871200-1746889200@www.tcss-co.org
SUMMARY:Public Day
DESCRIPTION:
URL:https://www.tcss-co.org/event/public-day-3/
END:VEVENT
BEGIN:VEVENT
DTSTART;TZID=America/Denver:20250510T130000
DTEND;TZID=America/Denver:20250510T160000
DTSTAMP:20260421T053829
CREATED:20250509T140058Z
LAST-MODIFIED:20250509T140058Z
UID:52928-1746882000-1746892800@www.tcss-co.org
SUMMARY:Rifle Training - GCSSC
DESCRIPTION:
URL:https://www.tcss-co.org/event/rifle-training-gcssc/
END:VEVENT
BEGIN:VEVENT
DTSTART;TZID=America/Denver:20250511T100000
DTEND;TZID=America/Denver:20250511T150000
DTSTAMP:20260421T053829
CREATED:20250412T233417Z
LAST-MODIFIED:20250412T233417Z
UID:52896-1746957600-1746975600@www.tcss-co.org
SUMMARY:Public Day
DESCRIPTION:
URL:https://www.tcss-co.org/event/public-day-4/
END:VEVENT
BEGIN:VEVENT
DTSTART;TZID=America/Denver:20250517T080000
DTEND;TZID=America/Denver:20250517T170000
DTSTAMP:20260421T053829
CREATED:20250101T094732Z
LAST-MODIFIED:20250101T025219Z
UID:52483-1747468800-1747501200@www.tcss-co.org
SUMMARY:Spec Performance Pistol Class
DESCRIPTION:
URL:https://www.tcss-co.org/event/spec-performance-pistol-class/
LOCATION:Gold Camp Shooing Sports Center\, 1805 Highway 81\, Cripple Creek\, CO\, 80813\, United States
END:VEVENT
BEGIN:VEVENT
DTSTART;TZID=America/Denver:20250517T100000
DTEND;TZID=America/Denver:20250517T150000
DTSTAMP:20260421T053829
CREATED:20250412T233455Z
LAST-MODIFIED:20250412T233455Z
UID:52898-1747476000-1747494000@www.tcss-co.org
SUMMARY:Public Day
DESCRIPTION:
URL:https://www.tcss-co.org/event/public-day-5/
END:VEVENT
BEGIN:VEVENT
DTSTART;TZID=America/Denver:20250518T080000
DTEND;TZID=America/Denver:20250518T170000
DTSTAMP:20260421T053829
CREATED:20250101T025409Z
LAST-MODIFIED:20250101T025409Z
UID:52486-1747555200-1747587600@www.tcss-co.org
SUMMARY:Spec Performance Pistol Class
DESCRIPTION:
URL:https://www.tcss-co.org/event/spec-performance-pistol-class-2/
LOCATION:Gold Camp Shooing Sports Center\, 1805 Highway 81\, Cripple Creek\, CO\, 80813\, United States
END:VEVENT
BEGIN:VEVENT
DTSTART;TZID=America/Denver:20250518T100000
DTEND;TZID=America/Denver:20250518T150000
DTSTAMP:20260421T053829
CREATED:20250412T233532Z
LAST-MODIFIED:20250412T233532Z
UID:52900-1747562400-1747580400@www.tcss-co.org
SUMMARY:Public Day
DESCRIPTION:
URL:https://www.tcss-co.org/event/public-day-6/
END:VEVENT
BEGIN:VEVENT
DTSTART;TZID=America/Denver:20250524T100000
DTEND;TZID=America/Denver:20250524T150000
DTSTAMP:20260421T053829
CREATED:20250412T233608Z
LAST-MODIFIED:20250412T233608Z
UID:52902-1748080800-1748098800@www.tcss-co.org
SUMMARY:Public Day
DESCRIPTION:
URL:https://www.tcss-co.org/event/public-day-7/
END:VEVENT
BEGIN:VEVENT
DTSTART;TZID=America/Denver:20250525T100000
DTEND;TZID=America/Denver:20250525T150000
DTSTAMP:20260421T053829
CREATED:20250412T233647Z
LAST-MODIFIED:20250412T233647Z
UID:52904-1748167200-1748185200@www.tcss-co.org
SUMMARY:Public Day
DESCRIPTION:
URL:https://www.tcss-co.org/event/public-day-8/
END:VEVENT
BEGIN:VEVENT
DTSTART;TZID=America/Denver:20250530T100000
DTEND;TZID=America/Denver:20250530T120000
DTSTAMP:20260421T053829
CREATED:20250526T132605Z
LAST-MODIFIED:20250526T132605Z
UID:52947-1748599200-1748606400@www.tcss-co.org
SUMMARY:TCSS Board Meeting
DESCRIPTION:
URL:https://www.tcss-co.org/event/tcss-board-meeting-7/
END:VEVENT
BEGIN:VEVENT
DTSTART;TZID=America/Denver:20250531T100000
DTEND;TZID=America/Denver:20250531T150000
DTSTAMP:20260421T053829
CREATED:20250412T233724Z
LAST-MODIFIED:20250412T233724Z
UID:52906-1748685600-1748703600@www.tcss-co.org
SUMMARY:Public Day
DESCRIPTION:
URL:https://www.tcss-co.org/event/public-day-9/
END:VEVENT
END:VCALENDAR