BEGIN:VCALENDAR
VERSION:2.0
PRODID:-//Teller County Shooting Society - ECPv6.15.17.1//NONSGML v1.0//EN
CALSCALE:GREGORIAN
METHOD:PUBLISH
X-WR-CALNAME:Teller County Shooting Society
X-ORIGINAL-URL:https://www.tcss-co.org
X-WR-CALDESC:Events for Teller County Shooting Society
REFRESH-INTERVAL;VALUE=DURATION:PT1H
X-Robots-Tag:noindex
X-PUBLISHED-TTL:PT1H
BEGIN:VTIMEZONE
TZID:America/Denver
BEGIN:DAYLIGHT
TZOFFSETFROM:-0700
TZOFFSETTO:-0600
TZNAME:MDT
DTSTART:20240310T090000
END:DAYLIGHT
BEGIN:STANDARD
TZOFFSETFROM:-0600
TZOFFSETTO:-0700
TZNAME:MST
DTSTART:20241103T080000
END:STANDARD
BEGIN:DAYLIGHT
TZOFFSETFROM:-0700
TZOFFSETTO:-0600
TZNAME:MDT
DTSTART:20250309T090000
END:DAYLIGHT
BEGIN:STANDARD
TZOFFSETFROM:-0600
TZOFFSETTO:-0700
TZNAME:MST
DTSTART:20251102T080000
END:STANDARD
BEGIN:DAYLIGHT
TZOFFSETFROM:-0700
TZOFFSETTO:-0600
TZNAME:MDT
DTSTART:20260308T090000
END:DAYLIGHT
BEGIN:STANDARD
TZOFFSETFROM:-0600
TZOFFSETTO:-0700
TZNAME:MST
DTSTART:20261101T080000
END:STANDARD
END:VTIMEZONE
BEGIN:VEVENT
DTSTART;TZID=America/Denver:20250905T090000
DTEND;TZID=America/Denver:20250905T120000
DTSTAMP:20260423T113008
CREATED:20250412T232708Z
LAST-MODIFIED:20250412T232708Z
UID:52885-1757062800-1757073600@www.tcss-co.org
SUMMARY:Range Work Day
DESCRIPTION:
URL:https://www.tcss-co.org/event/range-work-day-5/
LOCATION:CO
END:VEVENT
BEGIN:VEVENT
DTSTART;TZID=America/Denver:20250906T100000
DTEND;TZID=America/Denver:20250906T150000
DTSTAMP:20260423T113008
CREATED:20250821T232358Z
LAST-MODIFIED:20250821T232358Z
UID:53041-1757152800-1757170800@www.tcss-co.org
SUMMARY:Public Day
DESCRIPTION:
URL:https://www.tcss-co.org/event/public-day-27/
LOCATION:CO
END:VEVENT
BEGIN:VEVENT
DTSTART;TZID=America/Denver:20250907T100000
DTEND;TZID=America/Denver:20250907T150000
DTSTAMP:20260423T113008
CREATED:20250821T232500Z
LAST-MODIFIED:20250821T232500Z
UID:53043-1757239200-1757257200@www.tcss-co.org
SUMMARY:Public Day
DESCRIPTION:
URL:https://www.tcss-co.org/event/public-day-33/
LOCATION:CO
END:VEVENT
BEGIN:VEVENT
DTSTART;TZID=America/Denver:20250913T100000
DTEND;TZID=America/Denver:20250913T150000
DTSTAMP:20260423T113008
CREATED:20250821T232534Z
LAST-MODIFIED:20250821T232534Z
UID:53045-1757757600-1757775600@www.tcss-co.org
SUMMARY:Public Day
DESCRIPTION:
URL:https://www.tcss-co.org/event/public-day-34/
LOCATION:CO
END:VEVENT
BEGIN:VEVENT
DTSTART;TZID=America/Denver:20250914T100000
DTEND;TZID=America/Denver:20250914T150000
DTSTAMP:20260423T113008
CREATED:20250821T232605Z
LAST-MODIFIED:20250821T232605Z
UID:53047-1757844000-1757862000@www.tcss-co.org
SUMMARY:Public Day
DESCRIPTION:
URL:https://www.tcss-co.org/event/public-day-35/
LOCATION:CO
END:VEVENT
BEGIN:VEVENT
DTSTART;TZID=America/Denver:20250921T100000
DTEND;TZID=America/Denver:20250921T150000
DTSTAMP:20260423T113008
CREATED:20250821T232713Z
LAST-MODIFIED:20250821T232713Z
UID:53051-1758448800-1758466800@www.tcss-co.org
SUMMARY:Public Day
DESCRIPTION:Pu
URL:https://www.tcss-co.org/event/public-day-37/
LOCATION:CO
END:VEVENT
BEGIN:VEVENT
DTSTART;TZID=America/Denver:20250927T100000
DTEND;TZID=America/Denver:20250927T150000
DTSTAMP:20260423T113008
CREATED:20250907T140853Z
LAST-MODIFIED:20250907T140853Z
UID:53054-1758967200-1758985200@www.tcss-co.org
SUMMARY:Public Day
DESCRIPTION:
URL:https://www.tcss-co.org/event/public-day-38/
LOCATION:CO
END:VEVENT
BEGIN:VEVENT
DTSTART;TZID=America/Denver:20250928T100000
DTEND;TZID=America/Denver:20250928T150000
DTSTAMP:20260423T113008
CREATED:20250926T143847Z
LAST-MODIFIED:20250926T143847Z
UID:53070-1759053600-1759071600@www.tcss-co.org
SUMMARY:Public Day
DESCRIPTION:Publi
URL:https://www.tcss-co.org/event/public-day-36/
LOCATION:CO
END:VEVENT
END:VCALENDAR