BEGIN:VCALENDAR
VERSION:2.0
PRODID:-//Teller County Shooting Society - ECPv6.15.17.1//NONSGML v1.0//EN
CALSCALE:GREGORIAN
METHOD:PUBLISH
X-ORIGINAL-URL:https://www.tcss-co.org
X-WR-CALDESC:Events for Teller County Shooting Society
REFRESH-INTERVAL;VALUE=DURATION:PT1H
X-Robots-Tag:noindex
X-PUBLISHED-TTL:PT1H
BEGIN:VTIMEZONE
TZID:America/Denver
BEGIN:DAYLIGHT
TZOFFSETFROM:-0700
TZOFFSETTO:-0600
TZNAME:MDT
DTSTART:20240310T090000
END:DAYLIGHT
BEGIN:STANDARD
TZOFFSETFROM:-0600
TZOFFSETTO:-0700
TZNAME:MST
DTSTART:20241103T080000
END:STANDARD
BEGIN:DAYLIGHT
TZOFFSETFROM:-0700
TZOFFSETTO:-0600
TZNAME:MDT
DTSTART:20250309T090000
END:DAYLIGHT
BEGIN:STANDARD
TZOFFSETFROM:-0600
TZOFFSETTO:-0700
TZNAME:MST
DTSTART:20251102T080000
END:STANDARD
BEGIN:DAYLIGHT
TZOFFSETFROM:-0700
TZOFFSETTO:-0600
TZNAME:MDT
DTSTART:20260308T090000
END:DAYLIGHT
BEGIN:STANDARD
TZOFFSETFROM:-0600
TZOFFSETTO:-0700
TZNAME:MST
DTSTART:20261101T080000
END:STANDARD
END:VTIMEZONE
BEGIN:VEVENT
DTSTART;TZID=America/Denver:20251004T100000
DTEND;TZID=America/Denver:20251004T150000
DTSTAMP:20260423T070024
CREATED:20250908T230733Z
LAST-MODIFIED:20250908T230733Z
UID:53059-1759572000-1759590000@www.tcss-co.org
SUMMARY:Public Day
DESCRIPTION:
URL:https://www.tcss-co.org/event/public-day-40/
LOCATION:CO
END:VEVENT
BEGIN:VEVENT
DTSTART;TZID=America/Denver:20251005T100000
DTEND;TZID=America/Denver:20251005T150000
DTSTAMP:20260423T070024
CREATED:20250908T230815Z
LAST-MODIFIED:20250908T230815Z
UID:53061-1759658400-1759676400@www.tcss-co.org
SUMMARY:Public Day
DESCRIPTION:
URL:https://www.tcss-co.org/event/public-day-41/
LOCATION:CO
END:VEVENT
BEGIN:VEVENT
DTSTART;TZID=America/Denver:20251011T100000
DTEND;TZID=America/Denver:20251011T130000
DTSTAMP:20260423T070024
CREATED:20251012T224526Z
LAST-MODIFIED:20251012T224526Z
UID:53094-1760176800-1760187600@www.tcss-co.org
SUMMARY:Member Trap & Skeet Shoot
DESCRIPTION:
URL:https://www.tcss-co.org/event/member-trap-skeet-shoot/
LOCATION:CO
END:VEVENT
BEGIN:VEVENT
DTSTART;TZID=America/Denver:20251011T100000
DTEND;TZID=America/Denver:20251011T150000
DTSTAMP:20260423T070024
CREATED:20250908T230851Z
LAST-MODIFIED:20251006T131736Z
UID:53063-1760176800-1760194800@www.tcss-co.org
SUMMARY:Public Day - No Fee Day!
DESCRIPTION:
URL:https://www.tcss-co.org/event/public-day-42/
LOCATION:CO
END:VEVENT
BEGIN:VEVENT
DTSTART;TZID=America/Denver:20251011T100000
DTEND;TZID=America/Denver:20251011T150000
DTSTAMP:20260423T070024
CREATED:20250908T231040Z
LAST-MODIFIED:20251006T131852Z
UID:53067-1760176800-1760194800@www.tcss-co.org
SUMMARY:Hunter Sight In Day
DESCRIPTION:TCSS Volunteers will be available to help members and guests get their hunting rifles sighted in.  Members of the public can attend for free.
URL:https://www.tcss-co.org/event/public-day-44/
LOCATION:CO
END:VEVENT
BEGIN:VEVENT
DTSTART;VALUE=DATE:20251012
DTEND;VALUE=DATE:20251013
DTSTAMP:20260423T070024
CREATED:20251010T220936Z
LAST-MODIFIED:20251010T220936Z
UID:53087-1760227200-1760313599@www.tcss-co.org
SUMMARY:Public Day Cancelled
DESCRIPTION:
URL:https://www.tcss-co.org/event/public-day-cancelled-2/
LOCATION:CO
END:VEVENT
BEGIN:VEVENT
DTSTART;VALUE=DATE:20251018
DTEND;VALUE=DATE:20251019
DTSTAMP:20260423T070024
CREATED:20251012T230234Z
LAST-MODIFIED:20251012T230234Z
UID:53100-1760745600-1760831999@www.tcss-co.org
SUMMARY:Public Day Cancelled
DESCRIPTION:
URL:https://www.tcss-co.org/event/public-day-cancelled-5/
LOCATION:CO
END:VEVENT
BEGIN:VEVENT
DTSTART;TZID=America/Denver:20251018T090000
DTEND;TZID=America/Denver:20251018T120000
DTSTAMP:20260423T070024
CREATED:20251003T201644Z
LAST-MODIFIED:20251003T201644Z
UID:53076-1760778000-1760788800@www.tcss-co.org
SUMMARY:Range Work Day
DESCRIPTION:Ra
URL:https://www.tcss-co.org/event/range-work-day-3/
LOCATION:CO
END:VEVENT
BEGIN:VEVENT
DTSTART;TZID=America/Denver:20251018T120000
DTEND;TZID=America/Denver:20251018T140000
DTSTAMP:20260423T070024
CREATED:20251012T224419Z
LAST-MODIFIED:20251012T224419Z
UID:53091-1760788800-1760796000@www.tcss-co.org
SUMMARY:Trap & Skeet Shoot
DESCRIPTION:Free trap and skeet shooting for workday volunteers.
URL:https://www.tcss-co.org/event/trap-skeet-shoot/
LOCATION:CO
END:VEVENT
BEGIN:VEVENT
DTSTART;TZID=America/Denver:20251019T100000
DTEND;TZID=America/Denver:20251019T150000
DTSTAMP:20260423T070024
CREATED:20251012T230316Z
LAST-MODIFIED:20251017T231537Z
UID:53102-1760868000-1760886000@www.tcss-co.org
SUMMARY:Public Day (10AM - 3PM)
DESCRIPTION:
URL:https://www.tcss-co.org/event/public-day-cancelled-6/
LOCATION:CO
END:VEVENT
BEGIN:VEVENT
DTSTART;VALUE=DATE:20251025
DTEND;VALUE=DATE:20251026
DTSTAMP:20260423T070024
CREATED:20251012T225618Z
LAST-MODIFIED:20251012T225618Z
UID:53096-1761350400-1761436799@www.tcss-co.org
SUMMARY:Public Day Cancelled
DESCRIPTION:
URL:https://www.tcss-co.org/event/public-day-cancelled-3/
LOCATION:CO
END:VEVENT
BEGIN:VEVENT
DTSTART;TZID=America/Denver:20251025T100000
DTEND;TZID=America/Denver:20251025T120000
DTSTAMP:20260423T070024
CREATED:20251003T201604Z
LAST-MODIFIED:20251003T201604Z
UID:53074-1761386400-1761393600@www.tcss-co.org
SUMMARY:Quarterly Meeting - Divide Fire Sation
DESCRIPTION:All member quarterly meeting.
URL:https://www.tcss-co.org/event/quarterly-meeting-divide-fire-sation/
LOCATION:CO
END:VEVENT
BEGIN:VEVENT
DTSTART;TZID=America/Denver:20251026T100000
DTEND;TZID=America/Denver:20251026T150000
DTSTAMP:20260423T070024
CREATED:20251012T225652Z
LAST-MODIFIED:20251020T205456Z
UID:53098-1761472800-1761490800@www.tcss-co.org
SUMMARY:Public Day (10AM - 3PM)
DESCRIPTION:
URL:https://www.tcss-co.org/event/public-day-cancelled-4/
LOCATION:CO
END:VEVENT
END:VCALENDAR