BEGIN:VCALENDAR
VERSION:2.0
PRODID:-//Teller County Shooting Society - ECPv6.15.17.1//NONSGML v1.0//EN
CALSCALE:GREGORIAN
METHOD:PUBLISH
X-WR-CALNAME:Teller County Shooting Society
X-ORIGINAL-URL:https://www.tcss-co.org
X-WR-CALDESC:Events for Teller County Shooting Society
REFRESH-INTERVAL;VALUE=DURATION:PT1H
X-Robots-Tag:noindex
X-PUBLISHED-TTL:PT1H
BEGIN:VTIMEZONE
TZID:America/Denver
BEGIN:DAYLIGHT
TZOFFSETFROM:-0700
TZOFFSETTO:-0600
TZNAME:MDT
DTSTART:20250309T090000
END:DAYLIGHT
BEGIN:STANDARD
TZOFFSETFROM:-0600
TZOFFSETTO:-0700
TZNAME:MST
DTSTART:20251102T080000
END:STANDARD
BEGIN:DAYLIGHT
TZOFFSETFROM:-0700
TZOFFSETTO:-0600
TZNAME:MDT
DTSTART:20260308T090000
END:DAYLIGHT
BEGIN:STANDARD
TZOFFSETFROM:-0600
TZOFFSETTO:-0700
TZNAME:MST
DTSTART:20261101T080000
END:STANDARD
BEGIN:DAYLIGHT
TZOFFSETFROM:-0700
TZOFFSETTO:-0600
TZNAME:MDT
DTSTART:20270314T090000
END:DAYLIGHT
BEGIN:STANDARD
TZOFFSETFROM:-0600
TZOFFSETTO:-0700
TZNAME:MST
DTSTART:20271107T080000
END:STANDARD
END:VTIMEZONE
BEGIN:VEVENT
DTSTART;TZID=America/Denver:20260102T100000
DTEND;TZID=America/Denver:20260102T120000
DTSTAMP:20260425T044036
CREATED:20251208T155823Z
LAST-MODIFIED:20251208T155823Z
UID:53131-1767348000-1767355200@www.tcss-co.org
SUMMARY:TCSS Board Meeting
DESCRIPTION:TC
URL:https://www.tcss-co.org/event/tcss-board-meeting-9/
LOCATION:Rampart Range Library\, 218 E Midland Ave\, Woodland Partk\, CO\, 80863\, United States
END:VEVENT
BEGIN:VEVENT
DTSTART;TZID=America/Denver:20260105T100000
DTEND;TZID=America/Denver:20260105T140000
DTSTAMP:20260425T044036
CREATED:20260104T003043Z
LAST-MODIFIED:20260104T003043Z
UID:53138-1767607200-1767621600@www.tcss-co.org
SUMMARY:100-yard Range Closure
DESCRIPTION:Closed from 10-2 for construction.
URL:https://www.tcss-co.org/event/100-yard-range-closure/
LOCATION:CO
END:VEVENT
BEGIN:VEVENT
DTSTART;TZID=America/Denver:20260117T090000
DTEND;TZID=America/Denver:20260117T130000
DTSTAMP:20260425T044036
CREATED:20260128T154312Z
LAST-MODIFIED:20260128T154312Z
UID:53198-1768640400-1768654800@www.tcss-co.org
SUMMARY:Basic Reloading Class
DESCRIPTION:
URL:https://www.tcss-co.org/event/basic-reloading-class/
LOCATION:CO
END:VEVENT
BEGIN:VEVENT
DTSTART;TZID=America/Denver:20260123T100000
DTEND;TZID=America/Denver:20260123T120000
DTSTAMP:20260425T044036
CREATED:20260104T003200Z
LAST-MODIFIED:20260104T003200Z
UID:53140-1769162400-1769169600@www.tcss-co.org
SUMMARY:TCSS Board Meeting
DESCRIPTION:
URL:https://www.tcss-co.org/event/tcss-board-meeting-10/
LOCATION:Rampart Range Library\, 218 E Midland Ave\, Woodland Partk\, CO\, 80863\, United States
END:VEVENT
BEGIN:VEVENT
DTSTART;TZID=America/Denver:20260131T090000
DTEND;TZID=America/Denver:20260131T130000
DTSTAMP:20260425T044036
CREATED:20260128T154353Z
LAST-MODIFIED:20260128T154353Z
UID:53200-1769850000-1769864400@www.tcss-co.org
SUMMARY:Basic Reloading Class
DESCRIPTION:
URL:https://www.tcss-co.org/event/basic-reloading-class-2/
LOCATION:CO
END:VEVENT
END:VCALENDAR