BEGIN:VCALENDAR
VERSION:2.0
PRODID:-//Teller County Shooting Society - ECPv6.15.17.1//NONSGML v1.0//EN
CALSCALE:GREGORIAN
METHOD:PUBLISH
X-ORIGINAL-URL:https://www.tcss-co.org
X-WR-CALDESC:Events for Teller County Shooting Society
REFRESH-INTERVAL;VALUE=DURATION:PT1H
X-Robots-Tag:noindex
X-PUBLISHED-TTL:PT1H
BEGIN:VTIMEZONE
TZID:America/Denver
BEGIN:DAYLIGHT
TZOFFSETFROM:-0700
TZOFFSETTO:-0600
TZNAME:MDT
DTSTART:20250309T090000
END:DAYLIGHT
BEGIN:STANDARD
TZOFFSETFROM:-0600
TZOFFSETTO:-0700
TZNAME:MST
DTSTART:20251102T080000
END:STANDARD
BEGIN:DAYLIGHT
TZOFFSETFROM:-0700
TZOFFSETTO:-0600
TZNAME:MDT
DTSTART:20260308T090000
END:DAYLIGHT
BEGIN:STANDARD
TZOFFSETFROM:-0600
TZOFFSETTO:-0700
TZNAME:MST
DTSTART:20261101T080000
END:STANDARD
BEGIN:DAYLIGHT
TZOFFSETFROM:-0700
TZOFFSETTO:-0600
TZNAME:MDT
DTSTART:20270314T090000
END:DAYLIGHT
BEGIN:STANDARD
TZOFFSETFROM:-0600
TZOFFSETTO:-0700
TZNAME:MST
DTSTART:20271107T080000
END:STANDARD
END:VTIMEZONE
BEGIN:VEVENT
DTSTART;TZID=America/Denver:20260201T100000
DTEND;TZID=America/Denver:20260201T130000
DTSTAMP:20260423T053443
CREATED:20260128T154227Z
LAST-MODIFIED:20260128T154227Z
UID:53196-1769940000-1769950800@www.tcss-co.org
SUMMARY:2026 Member Card Pickup
DESCRIPTION:2026 member card pickup at the South Platte Fly Shop in Woodland Park.
URL:https://www.tcss-co.org/event/2026-member-card-pickup/
LOCATION:CO
END:VEVENT
BEGIN:VEVENT
DTSTART;TZID=America/Denver:20260213T100000
DTEND;TZID=America/Denver:20260213T120000
DTSTAMP:20260423T053443
CREATED:20260128T154502Z
LAST-MODIFIED:20260128T154502Z
UID:53202-1770976800-1770984000@www.tcss-co.org
SUMMARY:Board Meeting
DESCRIPTION:
URL:https://www.tcss-co.org/event/board-meeting/
LOCATION:Rampart Range Library\, 218 E Midland Ave\, Woodland Partk\, CO\, 80863\, United States
END:VEVENT
BEGIN:VEVENT
DTSTART;TZID=America/Denver:20260221T090000
DTEND;TZID=America/Denver:20260221T120000
DTSTAMP:20260423T053443
CREATED:20260207T231632Z
LAST-MODIFIED:20260207T231632Z
UID:53250-1771664400-1771675200@www.tcss-co.org
SUMMARY:2026 Member Card Pickup
DESCRIPTION:2026
URL:https://www.tcss-co.org/event/2026-member-card-pickup-3/
LOCATION:South Platte Fly Shop\, 405 East hwy 24\, Woodland Park\, CO\, 80863\, United States
END:VEVENT
END:VCALENDAR