BEGIN:VCALENDAR
VERSION:2.0
PRODID:-//Teller County Shooting Society - ECPv6.15.17.1//NONSGML v1.0//EN
CALSCALE:GREGORIAN
METHOD:PUBLISH
X-WR-CALNAME:Teller County Shooting Society
X-ORIGINAL-URL:https://www.tcss-co.org
X-WR-CALDESC:Events for Teller County Shooting Society
REFRESH-INTERVAL;VALUE=DURATION:PT1H
X-Robots-Tag:noindex
X-PUBLISHED-TTL:PT1H
BEGIN:VTIMEZONE
TZID:America/Denver
BEGIN:DAYLIGHT
TZOFFSETFROM:-0700
TZOFFSETTO:-0600
TZNAME:MDT
DTSTART:20250309T090000
END:DAYLIGHT
BEGIN:STANDARD
TZOFFSETFROM:-0600
TZOFFSETTO:-0700
TZNAME:MST
DTSTART:20251102T080000
END:STANDARD
BEGIN:DAYLIGHT
TZOFFSETFROM:-0700
TZOFFSETTO:-0600
TZNAME:MDT
DTSTART:20260308T090000
END:DAYLIGHT
BEGIN:STANDARD
TZOFFSETFROM:-0600
TZOFFSETTO:-0700
TZNAME:MST
DTSTART:20261101T080000
END:STANDARD
BEGIN:DAYLIGHT
TZOFFSETFROM:-0700
TZOFFSETTO:-0600
TZNAME:MDT
DTSTART:20270314T090000
END:DAYLIGHT
BEGIN:STANDARD
TZOFFSETFROM:-0600
TZOFFSETTO:-0700
TZNAME:MST
DTSTART:20271107T080000
END:STANDARD
END:VTIMEZONE
BEGIN:VEVENT
DTSTART;VALUE=DATE:20260801
DTEND;VALUE=DATE:20260802
DTSTAMP:20260425T053631
CREATED:20260128T150856Z
LAST-MODIFIED:20260213T000605Z
UID:53192-1785542400-1785628799@www.tcss-co.org
SUMMARY:Tim Herron Performance Pistol Training Class
DESCRIPTION:This class will be at the 25-yard range which will be closed to members. The rest of the range will remain open.
URL:https://www.tcss-co.org/event/private-pistol-training-class/
LOCATION:CO
END:VEVENT
BEGIN:VEVENT
DTSTART;VALUE=DATE:20260802
DTEND;VALUE=DATE:20260803
DTSTAMP:20260425T053631
CREATED:20260128T150943Z
LAST-MODIFIED:20260213T000705Z
UID:53194-1785628800-1785715199@www.tcss-co.org
SUMMARY:Tim Herron Performance Pistol Training Class
DESCRIPTION:This class will be at the 25-yard range which will be closed to members. The rest of the range will remain open.
URL:https://www.tcss-co.org/event/private-pistol-training-class-2/
LOCATION:CO
END:VEVENT
BEGIN:VEVENT
DTSTART;TZID=America/Denver:20260808T160000
DTEND;TZID=America/Denver:20260808T210000
DTSTAMP:20260425T053631
CREATED:20260217T142805Z
LAST-MODIFIED:20260217T142805Z
UID:53279-1786204800-1786222800@www.tcss-co.org
SUMMARY:RMEF Banquet
DESCRIPTION:
URL:https://www.tcss-co.org/event/rmef-banquet/
LOCATION:Ute Pass Cultural Center\, 210 E. Midland Avenue\, Woodland Park\, CO\, 80863
END:VEVENT
END:VCALENDAR